BEGIN:VCALENDAR
VERSION:2.0
PRODID:-//eventon.com NONSGML v1.0//EN
CALSCALE:GREGORIAN
METHOD:PUBLISH
BEGIN:VEVENT
UID:69e5c8bd121f2
DTSTAMP:20260420T063333Z
DTSTART:20250327T133000Z
DTEND:20250327T143000Z
LOCATION:
SUMMARY:NAACP Religious Affairs Commitee
DESCRIPTION:Under the leadership of Rev. Reginald Johnson\,  the West Volus
 ia NAACP's Religious Affairs Committee meets the third Thursday of every mo
 nth at 9:30 am via Zoom. Email irgpreacher@bellsouth.net for more informati
 on!\nhttps://westvolusianaacp.org/events/naacp-religious-affairs-commitee/
URL:https://westvolusianaacp.org/events/naacp-religious-affairs-commitee/
END:VEVENT
END:VCALENDAR