BEGIN:VCALENDAR
VERSION:2.0
PRODID:-//eventon.com NONSGML v1.0//EN
CALSCALE:GREGORIAN
METHOD:PUBLISH
BEGIN:VEVENT
UID:69e4de948b07a
DTSTAMP:20260419T135428Z
DTSTART:20250503T140000Z
DTEND:20250503T150000Z
LOCATION:
SUMMARY:NAACP West Volusia Executive Meeting Deltona
DESCRIPTION:NAACP West Volusia Executive Meeting Deltona\nhttps://westvolus
 ianaacp.org/events/executive-meetings/
URL:https://westvolusianaacp.org/events/executive-meetings/
END:VEVENT
END:VCALENDAR